BEGIN:VCALENDAR
VERSION:2.0
PRODID:-//Enda inter-arabe - ECPv4.5.2.1//NONSGML v1.0//EN
CALSCALE:GREGORIAN
METHOD:PUBLISH
X-WR-CALNAME:Enda inter-arabe
X-ORIGINAL-URL:http://www.endarabe.org.tn
X-WR-CALDESC:Events for Enda inter-arabe
BEGIN:VEVENT
DTSTART;TZID=Africa/Tunis:20181222T160000
DTEND;TZID=Africa/Tunis:20181222T170000
DTSTAMP:20260421T090643
CREATED:20181213T155354Z
LAST-MODIFIED:20181213T155717Z
UID:4098-1545494400-1545498000@www.endarabe.org.tn
SUMMARY:Pièce théâtrale "Khamsoun" jouée par le Club de théâtre de Enda
DESCRIPTION:Pour les vacances scolaires et en marge des « Journées théâtrales de Carthage » (JTC 2018)\, nous organisons gracieusement à Espace El Hamra\, en partenariat avec Monsieur Fadhel Jaibi\, une représentation de sa pièce théâtrale « Khamsoun »\, interprétée par les jeunes talents de notre Club de théâtre.\n\nVenez nombreux encourager nos jeunes acteurs en herbe et en profiter pour inculquer à vos ado les valeurs de tolérance et d’ouverture d’esprit\, à travers l’art et la culture.\n\nAccès 100% gratuit!
URL:http://www.endarabe.org.tn/evenement/piece-theatrale-khamsoun-jouee-par-le-club-de-theatre-de-enda/
LOCATION: 28\, rue El Jazira\, Tunis\, Tunisie
CATEGORIES:Spectacles
ATTACH;FMTTYPE=image/png:http://www.endarabe.org.tn/wp-content/uploads/2018/12/kHamsoun-pour-event-site-web.png
ORGANIZER;CN="Enda%20inter-arabe":MAILTO:inscriptions@endarabe.org.tn
END:VEVENT
END:VCALENDAR